Workbook

Sheet Revisions History
A2: Glider | B2: Lines Rev | C2: Date
A3: Tala ML | B3: Rev1 | C3: 41276 | D3: First design
B4: Rev2 | C4: 41329 | D4: Change SL UP length
B5: Rev3 | C5: 41345 | D5: correct check lengths, BR1=-10mm, BR2=-8mm
B6: Rev4a | C6: 41388 | D6: BR4=-135, KRupper=-40, AM2=-20, AR3=-20, CR1=-10 | J6: As submitted to Zoller, 27th April 2013
B7: Rev5 | C7: 41409 | D7: BR4=+85mm(overall -50mm), A9=-10, BR3=-10, BR1=-5, BR2=-2mm | K7: After receiving first production | N7: test flown 16/5/2013 Wolfsberg

Sheet Aqua Rev5
B1: Tala ML LINE PLAN Rev-5 | J1: Tala ML LINE Materials | N1: Date: | O1: 41410 | R1: Loop details
R2: PL1
C3: A-LINE | K3: A-LINE | R3: PL2 | T3: A-LINE NAMES
B4: Rib | H4: Check | J4: Rib | R4: PL3 | S4: Rib
B5: 3 | C5: 1596 | E5: 5844 | H5: =E5+C5+15 -> 7455 | J5: 3 | K5: LTC160 INSERT | M5: 8000U280 | R5: PL4 | S5: 3 | T5: a1 | V5: AR1
B6: 6 | C6: 1545 | H6: =E5+C6+15 -> 7404 | J6: 6 | K6: LTC120 INSERT | R6: PL_XL1 + IC4.1 | S6: 6 | T6: a2
B7: 10 | C7: 1668 | E7: 5608 | H7: =E7+C7+15 -> 7291 | J7: 10 | K7: LTC120 INSERT | M7: 8000U230 | S7: 10 | T7: a3 | V7: AR2
B8: 13 | C8: 1607 | H8: =E7+C8+15 -> 7230 | J8: 13 | K8: LTC120 INSERT | S8: 13 | T8: a4
B9: 16 | C9: 1303 | D9: 1902 | E9: =3867-20 -> 3847 | H9: =E9+D9+C9 -> 7052 | J9: 16 | K9: LTC80 INSERT | L9: LTC120 INSERT | M9: LTC200 | S9: 16 | T9: a5 | U9: 1A1 | V9: AR3
B10: 18 | C10: 1171 | H10: =E9+D9+C10 -> 6920 | J10: 18 | K10: LTC80 INSERT | S10: 18 | T10: a6
B11: 21 | C11: 1144 | D11: =1758-15 -> 1743 | H11: =E9+D11+C11 -> 6734 | J11: 21 | K11: LTC65 INSERT | L11: LTC65 INSERT | S11: 21 | T11: a7 | U11: 1A2
B12: 23 | C12: 1094 | H12: =E9+D11+C12 -> 6684 | J12: 23 | K12: LTC45 INSERT | S12: 23 | T12: a8
B13: 25 | C13: =857-10 -> 847 | H13: =E26+C13+15 -> 6427 | J13: 25 | K13: LTC45 INSERT | S13: 25 | T13: a9
B14: 26 | C14: =513 -> 513 | D14: 328 | H14: =E26+D14+C14 -> 6406 | J14: 26 | K14: LTC45 INSERT | L14: LTC65 INSERT | S14: 26 | T14: a10 | U14: 1A3
C16: B-LINE | K16: B-LINE | T16: B-LINE
B17: Rib | J17: Rib | S17: Rib
B18: 3 | C18: 1581 | E18: =5802-15 -> 5787 | H18: =E18+C18+15 -> 7383 | J18: 3 | K18: LTC120 INSERT | M18: 8000U230 | S18: 3 | T18: b1 | V18: BR1
B19: 6 | C19: 1533 | H19: =E18+C19+15 -> 7335 | J19: 6 | K19: LTC120 INSERT | S19: 6 | T19: b2
B20: 10 | C20: 1570 | E20: =5664-10 -> 5654 | H20: =E20+C20+15 -> 7239 | J20: 10 | K20: LTC120 INSERT | M20: LTC200 | S20: 10 | T20: b3 | V20: BR2
B21: 13 | C21: 1524 | H21: =E20+C21+15 -> 7193 | J21: 13 | K21: LTC80 INSERT | S21: 13 | T21: b4
B22: 16 | C22: 1105 | D22: 1253 | E22: =4713-10 -> 4703 | H22: =E22+D22+C22 -> 7061 | J22: 16 | K22: LTC80 INSERT | L22: LTC120 INSERT | M22: LTC160 | S22: 16 | T22: b5 | U22: 1B1 | V22: BR3
B23: 18 | C23: 963 | H23: =E22+D22+C23 -> 6919 | J23: 18 | K23: LTC65 INSERT | S23: 18 | T23: b6
B24: 21 | C24: 950 | D24: 1132 | H24: =E22+D24+C24 -> 6785 | J24: 21 | K24: LTC45 INSERT | L24: LTC80 INSERT | S24: 21 | T24: b7 | U24: 1B2
B25: 23 | C25: 947 | H25: =E22+D24+C25 -> 6782 | J25: 23 | K25: LTC45 INSERT | S25: 23 | T25: b8
B26: 25 | C26: 533 | E26: =5615-135+85 -> 5565 | H26: =E26+D14+C26 -> 6426 | J26: 25 | K26: LTC45 INSERT | M26: LTC120 | S26: 25 | T26: b9 | V26: BR4
B27: 26 | C27: 427 | D27: 430 | H27: =E26+D27+C27 -> 6422 | J27: 26 | K27: LTC45 INSERT | L27: LTC65 INSERT | S27: 26 | T27: b10 | U27: 1B3
C29: C-LINE | K29: C-LINE | T29: C-LINE
B30: Rib | J30: Rib | S30: Rib
B31: 3 | C31: 1603 | E31: =5889-10 -> 5879 | H31: =E31+C31+15 -> 7497 | J31: 3 | K31: LTC120 INSERT | M31: 8000U230 | S31: 3 | T31: c1 | V31: CR1
B32: 6 | C32: 1551 | H32: =E31+C32+15 -> 7445 | J32: 6 | K32: LTC120 INSERT | S32: 6 | T32: c2
B33: 10 | C33: 1521 | E33: 5817 | H33: =E33+C33+15 -> 7353 | J33: 10 | K33: LTC120 INSERT | M33: 8000U230 | S33: 10 | T33: c3 | V33: CR2
B34: 13 | C34: 1474 | H34: =E33+C34+15 -> 7306 | J34: 13 | K34: LTC120 INSERT | S34: 13 | T34: c4
B35: 16 | C35: 985 | D35: 1276 | E35: 4908 | H35: =E35+D35+C35 -> 7169 | J35: 16 | K35: LTC120 INSERT | L35: LTC120 INSERT | M35: LTC200 | S35: 16 | T35: c5 | U35: 1C1 | V35: CR3
B36: 18 | C36: 835 | H36: =E35+D35+C36 -> 7019 | J36: 18 | K36: LTC80 INSERT | S36: 18 | T36: c6
B37: 21 | C37: 889 | D37: 1080 | H37: =E35+D37+C37 -> 6877 | J37: 21 | K37: LTC65 INSERT | L37: LTC80 INSERT | S37: 21 | T37: c7 | U37: 1C2
B38: 23 | C38: 885 | H38: =E35+D37+C38 -> 6873 | J38: 23 | K38: LTC45 INSERT | S38: 23 | T38: c8
B39: 25 | C39: 529 | H39: =E26+D27+C39 -> 6524 | J39: 25 | K39: LTC45 INSERT | S39: 25 | T39: c9
B40: 26 | C40: 494 | H40: =E26+D27+C40 -> 6489 | J40: 26 | K40: LTC45 INSERT | S40: 26 | T40: c10
C43: BRAKE LINE | K43: BRAKE LINE | T43: BRAKE LINE
A44: Rib | B44: Distance "A" in mm | J44: Rib | S44: Rib
...

Sheet check sheet
A1: Tala ML | B1: Rev5 | C1: 406652
B2: A | C2: B | D2: C | E2: K
A3: 1 | B3: ='Aqua Rev5'!H5 -> 7455 | C3: ='Aqua Rev5'!H18 -> 7383 | D3: ='Aqua Rev5'!H31 -> 7497 | E3: ='Aqua Rev5'!H45 -> 8295
A4: 2 | B4: ='Aqua Rev5'!H6 -> 7404 | C4: ='Aqua Rev5'!H19 -> 7335 | D4: ='Aqua Rev5'!H32 -> 7445 | E4: ='Aqua Rev5'!H46 -> 8048
A5: 3 | B5: ='Aqua Rev5'!H7 -> 7291 | C5: ='Aqua Rev5'!H20 -> 7239 | D5: ='Aqua Rev5'!H33 -> 7353 | E5: ='Aqua Rev5'!H47 -> 7886
A6: 4 | B6: ='Aqua Rev5'!H8 -> 7230 | C6: ='Aqua Rev5'!H21 -> 7193 | D6: ='Aqua Rev5'!H34 -> 7306 | E6: ='Aqua Rev5'!H48 -> 7869
A7: 5 | B7: ='Aqua Rev5'!H9 -> 7052 | C7: ='Aqua Rev5'!H22 -> 7061 | D7: ='Aqua Rev5'!H35 -> 7169 | E7: ='Aqua Rev5'!H49 -> 7697
A8: 6 | B8: ='Aqua Rev5'!H10 -> 6920 | C8: ='Aqua Rev5'!H23 -> 6919 | D8: ='Aqua Rev5'!H36 -> 7019 | E8: ='Aqua Rev5'!H50 -> 7563
A9: 7 | B9: ='Aqua Rev5'!H11 -> 6734 | C9: ='Aqua Rev5'!H24 -> 6785 | D9: ='Aqua Rev5'!H37 -> 6877 | E9: ='Aqua Rev5'!H51 -> 7509
A10: 8 | B10: ='Aqua Rev5'!H12 -> 6684 | C10: ='Aqua Rev5'!H25 -> 6782 | D10: ='Aqua Rev5'!H38 -> 6873 | E10: ='Aqua Rev5'!H52 -> 7547
A11: 9 | B11: ='Aqua Rev5'!H13 -> 6427 | C11: ='Aqua Rev5'!H26 -> 6426 | D11: ='Aqua Rev5'!H39 -> 6524 | E11: ='Aqua Rev5'!H53 -> 7426
A12: 10 | B12: ='Aqua Rev5'!H14 -> 6406 | C12: ='Aqua Rev5'!H27 -> 6422 | D12: ='Aqua Rev5'!H40 -> 6489 | E12: ='Aqua Rev5'!H54 -> 7365
E13: ='Aqua Rev5'!H55 -> 7376
E14: ='Aqua Rev5'!H56 -> 7435
