Workbook

Sheet Revisions History
A2: Glider | B2: Lines Rev | C2: Date
A3: TalaL Rev2 | B3: Rev2 | C3: 41276 | D3: As made on 2 x Tala L for Zoller load test
A4: TalaL Rev3 | B4: Rev3 | C4: 41296 | D4: Increased the line sizes for EN calculations after 5000 cycles
A5: Tala L | B5: Rev4 | C5: 41299 | D5: Increased the line sizes same as M with levels as well
A6: Tala L | B6: Rev5 | C6: 41332 | D6: Changed brakes mid lines from 45 to 65 kg

Sheet RGD format
B1: TalaL LINE PLAN REV-5 | J1: Tala L LINE Materials | N1: Date: | O1: 41332 | R1: Loop details
R2: PL1
C3: A-LINE | K3: A-LINE | R3: PL2
B4: Rib | H4: Check | J4: Rib | R4: PL3
B5: 3 | C5: 1635 | E5: 6000 | H5: =C5+E5+15 -> 7650 | J5: 3 | K5: LTC160 INSERT | M5: 8000U280 | R5: PL4
B6: 6 | C6: 1583 | H6: =C6+E5+15 -> 7598 | J6: 6 | K6: LTC120 INSERT | R6: PL_XL1
B7: 10 | C7: 1708 | E7: 5761 | H7: =C7+E7+15 -> 7484 | J7: 10 | K7: LTC120 INSERT | M7: 8000U230
B8: 13 | C8: 1649 | H8: =C8+E7+15 -> 7425 | J8: 13 | K8: LTC120 INSERT
B9: 16 | C9: 1334 | D9: 1950 | E9: 3976 | H9: =C9+D9+E9 -> 7260 | J9: 16 | K9: LTC80 INSERT | L9: LTC120 INSERT | M9: LTC200
B10: 18 | C10: 1195 | H10: =C10+D9+E9 -> 7121 | J10: 18 | K10: LTC80 INSERT
B11: 21 | C11: 1172 | D11: 1798 | H11: =C11+D11+E9 -> 6946 | J11: 21 | K11: LTC65 INSERT | L11: LTC65 INSERT
B12: 23 | C12: 1125 | H12: =C12+D11+E9 -> 6899 | J12: 23 | K12: LTC45 INSERT
B13: 25 | C13: 887 | H13: =C13+E26 -> 6639 | J13: 25 | K13: LTC45 INSERT
B14: 26 | C14: 536 | H14: =C14+D26+E26 -> 6624 | J14: 26 | K14: LTC45 INSERT
C16: B-LINE | K16: B-LINE
B17: Rib | J17: Rib
B18: 3 | C18: 1620 | E18: 5958 | H18: =C18+E18+15 -> 7593 | J18: 3 | K18: LTC120 INSERT | M18: 8000U230
B19: 6 | C19: 1572 | H19: =C19+E18+15 -> 7545 | J19: 6 | K19: LTC120 INSERT
B20: 10 | C20: 1609 | E20: 5817 | H20: =C20+E20+15 -> 7441 | J20: 10 | K20: LTC120 INSERT | M20: LTC200
B21: 13 | C21: 1561 | H21: =C21+E20+15 -> 7393 | J21: 13 | K21: LTC80 INSERT
B22: 16 | C22: 1133 | D22: 1284 | E22: 4844 | H22: =C22+D22+E22 -> 7261 | J22: 16 | K22: LTC80 INSERT | L22: LTC120 INSERT | M22: LTC160
B23: 18 | C23: 988 | H23: =C23+D22+E22 -> 7116 | J23: 18 | K23: LTC65 INSERT
B24: 21 | C24: 973 | D24: 1160 | H24: =C24+D24+E22 -> 6977 | J24: 21 | K24: LTC45 INSERT | L24: LTC80 INSERT
B25: 23 | C25: 970 | H25: =C25+D24+E22 -> 6974 | J25: 23 | K25: LTC45 INSERT
B26: 25 | C26: 562 | D26: 336 | E26: 5752 | H26: =C26+D26+E26 -> 6650 | J26: 25 | K26: LTC45 INSERT | L26: LTC65 INSERT | M26: LTC120
B27: 26 | C27: 462 | D27: 430 | H27: =C27+D27+E26 -> 6644 | J27: 26 | K27: LTC45 INSERT | L27: LTC65 INSERT
C29: C-LINE | K29: C-LINE
B30: Rib | J30: Rib
B31: 3 | C31: 1642 | E31: 6048 | H31: =C31+E31+15 -> 7705 | J31: 3 | K31: LTC120 INSERT | M31: 8000U230
B32: 6 | C32: 1591 | H32: =C32+E31+15 -> 7654 | J32: 6 | K32: LTC120 INSERT
B33: 10 | C33: 1559 | E33: 5974 | H33: =C33+E33+15 -> 7548 | J33: 10 | K33: LTC120 INSERT | M33: 8000U230
B34: 13 | C34: 1509 | H34: =C34+E33+15 -> 7498 | J34: 13 | K34: LTC120 INSERT
B35: 16 | C35: 1012 | D35: 1305 | E35: 5046 | H35: =C35+D35+E35 -> 7363 | J35: 16 | K35: LTC120 INSERT | L35: LTC120 INSERT | M35: LTC200
B36: 18 | C36: 864 | H36: =C36+D35+E35 -> 7215 | J36: 18 | K36: LTC80 INSERT
B37: 21 | C37: 915 | D37: 1107 | H37: =C37+D37+E35 -> 7068 | J37: 21 | K37: LTC65 INSERT | L37: LTC80 INSERT
B38: 23 | C38: 902 | H38: =C38+D37+E35 -> 7055 | J38: 23 | K38: LTC45 INSERT
B39: 25 | C39: 575 | H39: =C39+D27+E26 -> 6757 | J39: 25 | K39: LTC45 INSERT
B40: 26 | C40: 535 | H40: =C40+D27+E26 -> 6717 | J40: 26 | K40: LTC45 INSERT
C43: BRAKE LINE | K43: BRAKE LINE
A44: Rib | B44: Distance "A" in mm | J44: Rib
A45: 2.5 | B45: 50 | C45: 1206 | D45: 1082 | E45: 2553 | F45: 2061 | G45: 1625 | H45: =C45+D45+E45+F45+G45 -> 8527 | J45: 2.5 | K45: LTC 45 | L45: LTC65 | M45: LTC80 | N45: LTC200 | O45: DFL115 | R45: Brake loop
A46: 4.5 | B46: 50 | C46: 940 | H46: =C46+D45+E45+F45+G45 -> 8261 | J46: 4.5 | K46: LTC 45 | R46: BL1
A47: 6.5 | B47: 50 | C47: 964 | D47: 882 | H47: =C47+D47+E45+F45+G45 -> 8085 | J47: 6.5 | K47: LTC 45 | L47: LTC65 | R47: BL2
A48: 8.5 | B48: 50 | C48: 941 | H48: =C48+D47+E45+F45+G45 -> 8062 | J48: 8.5 | K48: LTC 45 | R48: BL3
A49: 10.5 | B49: 50 | C49: 1075 | D49: 940 | E49: 2184 | H49: =C49+D49+E49+F45+G45 -> 7885 | J49: 10.5 | K49: LTC 45 | L49: LTC65 | M49: LTC80 | R49: BL4
A50: 12.5 | B50: 50 | C50: 936 | H50: =C50+D49+E49+F45+G45 -> 7746 | J50: 12.5 | K50: LTC 45
A51: 14.5 | B51: 50 | C51: 952 | D51: 873 | H51: =C51+D51+E49+F45+G45 -> 7695 | J51: 14.5 | K51: LTC 45 | L51: LTC65
A52: 16.5 | B52: 50 | C52: 1005 | H52: =C52+D51+E49+F45+G45 -> 7748 | J52: 16.5 | K52: LTC 45
A53: 18.5 | B53: 50 | C53: 862 | D53: 673 | E53: 2418 | H53: =C53+D53+E53+F45+G45 -> 7639 | J53: 18.5 | K53: LTC 45 | L53: LTC65 | M53: LTC80
A54: 20.5 | B54: 50 | C54: 804 | H54: =C54+D53+E53+F45+G45 -> 7581 | J54: 20.5 | K54: LTC 45
A55: 22.5 | B55: 70 | C55: 674 | D55: 804 | H55: =C55+D55+E53+F45+G45 -> 7582 | J55: 22.5 | K55: LTC 45 | L55: LTC65
A56: 24.5 | B56: 70 | C56: 741 | H56: =C56+D55+E53+F45+G45 -> 7649 | J56: 24.5 | K56: LTC 45

Sheet Check sheet
A1: Tala L | B1: Rev5 | C1: 41332
B2: A | C2: B | D2: C | E2: K
A3: 1 | B3: ='RGD format'!H5 -> 7650 | C3: ='RGD format'!H18 -> 7593 | D3: ='RGD format'!H31 -> 7705 | E3: ='RGD format'!H45 -> 8527 | F3: center
A4: 2 | B4: ='RGD format'!H6 -> 7598 | C4: ='RGD format'!H19 -> 7545 | D4: ='RGD format'!H32 -> 7654 | E4: ='RGD format'!H46 -> 8261
A5: 3 | B5: ='RGD format'!H7 -> 7484 | C5: ='RGD format'!H20 -> 7441 | D5: ='RGD format'!H33 -> 7548 | E5: ='RGD format'!H47 -> 8085
A6: 4 | B6: ='RGD format'!H8 -> 7425 | C6: ='RGD format'!H21 -> 7393 | D6: ='RGD format'!H34 -> 7498 | E6: ='RGD format'!H48 -> 8062
A7: 5 | B7: ='RGD format'!H9 -> 7260 | C7: ='RGD format'!H22 -> 7261 | D7: ='RGD format'!H35 -> 7363 | E7: ='RGD format'!H49 -> 7885
A8: 6 | B8: ='RGD format'!H10 -> 7121 | C8: ='RGD format'!H23 -> 7116 | D8: ='RGD format'!H36 -> 7215 | E8: ='RGD format'!H50 -> 7746
A9: 7 | B9: ='RGD format'!H11 -> 6946 | C9: ='RGD format'!H24 -> 6977 | D9: ='RGD format'!H37 -> 7068 | E9: ='RGD format'!H51 -> 7695
A10: 8 | B10: ='RGD format'!H12 -> 6899 | C10: ='RGD format'!H25 -> 6974 | D10: ='RGD format'!H38 -> 7055 | E10: ='RGD format'!H52 -> 7748
A11: 9 | B11: ='RGD format'!H13 -> 6639 | C11: ='RGD format'!H26 -> 6650 | D11: ='RGD format'!H39 -> 6757 | E11: ='RGD format'!H53 -> 7639
A12: 10 | B12: ='RGD format'!H14 -> 6624 | C12: ='RGD format'!H27 -> 6644 | D12: ='RGD format'!H40 -> 6717 | E12: ='RGD format'!H54 -> 7581
A13: 11 | E13: ='RGD format'!H55 -> 7582
A14: 12 | E14: ='RGD format'!H56 -> 7649 | F14: tip
B17: 7647 | C17: 7584 | D17: 7700 | E17: 8571 | G17: =B17-B3 -> -3 | H17: =C17-C3 -> -9 | I17: =D17-D3 -> -5 | J17: =E17-E3 -> 44
B18: 7598 | C18: 7537 | D18: 7647 | E18: 8302 | G18: =B18-B4 -> 0 | H18: =C18-C4 -> -8 | I18: =D18-D4 -> -7 | J18: =E18-E4 -> 41
B19: 7474 | C19: 7441 | D19: 7545 | E19: 8127 | G19: =B19-B5 -> -10 | H19: =C19-C5 -> 0 | I19: =D19-D5 -> -3 | J19: =E19-E5 -> 42
B20: 7418 | C20: 7394 | D20: 7495 | E20: 8102 | G20: =B20-B6 -> -7 | H20: =C20-C6 -> 1 | I20: =D20-D6 -> -3 | J20: =E20-E6 -> 40
B21: 7270 | C21: 7268 | D21: 7371 | E21: 7927 | G21: =B21-B7 -> 10 | H21: =C21-C7 -> 7 | I21: =D21-D7 -> 8 | J21: =E21-E7 -> 42
B22: 7128 | C22: 7125 | D22: 7222 | E22: 7787 | G22: =B22-B8 -> 7 | H22: =C22-C8 -> 9 | I22: =D22-D8 -> 7 | J22: =E22-E8 -> 41
B23: 6958 | C23: 6983 | D23: 7072 | E23: 7737 | G23: =B23-B9 -> 12 | H23: =C23-C9 -> 6 | I23: =D23-D9 -> 4 | J23: =E23-E9 -> 42
B24: 6909 | C24: 6974 | D24: 7056 | E24: 7788 | G24: =B24-B10 -> 10 | H24: =C24-C10 -> 0 | I24: =D24-D10 -> 1 | J24: =E24-E10 -> 40
B25: 6649 | C25: 6649 | D25: 6754 | E25: 7677 | G25: =B25-B11 -> 10 | H25: =C25-C11 -> -1 | I25: =D25-D11 -> -3 | J25: =E25-E11 -> 38
B26: 6624 | C26: 6643 | D26: 6716 | E26: 7620 | G26: =B26-B12 -> 0 | H26: =C26-C12 -> -1 | I26: =D26-D12 -> -1 | J26: =E26-E12 -> 39
E27: 7659 | G27: =B27-B13 -> 0 | H27: =C27-C13 -> 0 | I27: =D27-D13 -> 0 | J27: =E27-E13 -> 77
E28: 7726 | G28: =B28-B14 -> 0 | H28: =C28-C14 -> 0 | I28: =D28-D14 -> 0 | J28: =E28-E14 -> 77
